Package: biocroxytest Version: 1.2.0 Command: rm -rf biocroxytest.buildbin-libdir && mkdir biocroxytest.buildbin-libdir && /Users/biocbuild/BBS/utils/build-universal.sh biocroxytest_1.2.0.tar.gz /Library/Frameworks/R.framework/Resources/bin/R biocroxytest.buildbin-libdir StartedAt: 2025-02-04 12:32:19 -0500 (Tue, 04 Feb 2025) EndedAt: 2025-02-04 12:32:27 -0500 (Tue, 04 Feb 2025) EllapsedTime: 8.6 seconds RetCode: 0 Status: OK PackageFile: biocroxytest_1.2.0.tgz PackageFileSize: 143 KiB