Package: biocroxytest Version: 1.2.0 Command: /Library/Frameworks/R.framework/Resources/bin/R CMD build --keep-empty-dirs --no-resave-data biocroxytest StartedAt: 2025-02-10 17:16:44 -0500 (Mon, 10 Feb 2025) EndedAt: 2025-02-10 17:17:01 -0500 (Mon, 10 Feb 2025) EllapsedTime: 16.5 seconds RetCode: 0 Status: OK PackageFile: biocroxytest_1.2.0.tar.gz PackageFileSize: 2.493 MiB