Package: biocroxytest Version: 1.2.0 Command: /home/biocbuild/bbs-3.20-bioc/R/bin/R CMD INSTALL biocroxytest StartedAt: 2025-02-03 15:17:35 -0500 (Mon, 03 Feb 2025) EndedAt: 2025-02-03 15:17:51 -0500 (Mon, 03 Feb 2025) EllapsedTime: 15.3 seconds RetCode: 0 Status: OK