Package: biocroxytest Version: 1.2.0 Command: chmod a+r biocroxytest -R && F:\biocbuild\bbs-3.20-bioc\R\bin\R.exe CMD build --keep-empty-dirs --no-resave-data biocroxytest StartedAt: 2025-02-03 17:46:03 -0500 (Mon, 03 Feb 2025) EndedAt: 2025-02-03 17:46:25 -0500 (Mon, 03 Feb 2025) EllapsedTime: 22.6 seconds RetCode: 0 Status: OK PackageFile: biocroxytest_1.2.0.tar.gz PackageFileSize: 2.493 MiB