Package: biocroxytest Version: 1.2.0 Command: F:\biocbuild\bbs-3.20-bioc\R\bin\R.exe CMD INSTALL biocroxytest StartedAt: 2025-02-03 15:40:47 -0500 (Mon, 03 Feb 2025) EndedAt: 2025-02-03 15:41:16 -0500 (Mon, 03 Feb 2025) EllapsedTime: 28.8 seconds RetCode: 0 Status: OK