Package: biocroxytest Version: 1.2.0 Command: /home/biocbuild/R/R/bin/R CMD build --keep-empty-dirs --no-resave-data biocroxytest StartedAt: 2025-02-03 22:03:16 -0000 (Mon, 03 Feb 2025) EndedAt: 2025-02-03 22:03:23 -0000 (Mon, 03 Feb 2025) EllapsedTime: 7.0 seconds RetCode: 0 Status: OK PackageFile: biocroxytest_1.2.0.tar.gz PackageFileSize: 2.494 MiB