Package: biodbExpasy Version: 1.10.0 Command: rm -rf biodbExpasy.buildbin-libdir && mkdir biodbExpasy.buildbin-libdir && /Users/biocbuild/BBS/utils/build-universal.sh biodbExpasy_1.10.0.tar.gz /Library/Frameworks/R.framework/Resources/bin/R biodbExpasy.buildbin-libdir StartedAt: 2025-02-12 14:13:41 -0500 (Wed, 12 Feb 2025) EndedAt: 2025-02-12 14:13:51 -0500 (Wed, 12 Feb 2025) EllapsedTime: 10.1 seconds RetCode: 0 Status: OK PackageFile: biodbExpasy_1.10.0.tgz PackageFileSize: 387.5 KiB