Package: biodbExpasy Version: 1.10.0 Command: /Library/Frameworks/R.framework/Resources/bin/R CMD build --keep-empty-dirs --no-resave-data biodbExpasy StartedAt: 2025-02-03 19:34:24 -0500 (Mon, 03 Feb 2025) EndedAt: 2025-02-03 19:34:43 -0500 (Mon, 03 Feb 2025) EllapsedTime: 19.5 seconds RetCode: 0 Status: OK PackageFile: biodbExpasy_1.10.0.tar.gz PackageFileSize: 303.9 KiB