Package: biodbHmdb Version: 1.12.0 Command: /Library/Frameworks/R.framework/Resources/bin/R CMD build --keep-empty-dirs --no-resave-data biodbHmdb StartedAt: 2025-01-30 17:29:11 -0500 (Thu, 30 Jan 2025) EndedAt: 2025-01-30 17:30:57 -0500 (Thu, 30 Jan 2025) EllapsedTime: 106.0 seconds RetCode: 0 Status: OK PackageFile: biodbHmdb_1.12.0.tar.gz PackageFileSize: 405.8 KiB