Package: biodbHmdb Version: 1.12.0 Command: rm -rf biodbHmdb.buildbin-libdir && mkdir biodbHmdb.buildbin-libdir && F:\biocbuild\bbs-3.20-bioc\R\bin\R.exe CMD INSTALL --build --library=biodbHmdb.buildbin-libdir biodbHmdb_1.12.0.tar.gz StartedAt: 2025-01-31 08:14:47 -0500 (Fri, 31 Jan 2025) EndedAt: 2025-01-31 08:15:37 -0500 (Fri, 31 Jan 2025) EllapsedTime: 49.9 seconds RetCode: 0 Status: OK PackageFile: biodbHmdb_1.12.0.zip PackageFileSize: 980.6 KiB