Package: biodbHmdb Version: 1.12.0 Command: F:\biocbuild\bbs-3.20-bioc\R\bin\R.exe CMD check --no-multiarch --install=check:biodbHmdb.install-out.txt --library=F:\biocbuild\bbs-3.20-bioc\R\library --no-vignettes --timings biodbHmdb_1.12.0.tar.gz StartedAt: 2025-01-30 23:50:39 -0500 (Thu, 30 Jan 2025) EndedAt: 2025-01-30 23:53:25 -0500 (Thu, 30 Jan 2025) EllapsedTime: 166.0 seconds RetCode: 1 Status: ERROR CheckDir: biodbHmdb.Rcheck Warnings: NA