Package: biodbHmdb Version: 1.12.0 Command: /home/biocbuild/R/R/bin/R CMD build --keep-empty-dirs --no-resave-data biodbHmdb StartedAt: 2025-02-10 21:50:18 -0000 (Mon, 10 Feb 2025) EndedAt: 2025-02-10 21:51:14 -0000 (Mon, 10 Feb 2025) EllapsedTime: 56.0 seconds RetCode: 0 Status: OK PackageFile: biodbHmdb_1.12.0.tar.gz PackageFileSize: 470.5 KiB