Package: biodbNcbi Version: 1.10.0 Command: /home/biocbuild/bbs-3.20-bioc/R/bin/R CMD build --keep-empty-dirs --no-resave-data --md5 biodbNcbi StartedAt: 2025-02-10 16:27:16 -0500 (Mon, 10 Feb 2025) EndedAt: 2025-02-10 16:27:30 -0500 (Mon, 10 Feb 2025) EllapsedTime: 14.0 seconds RetCode: 1 Status: ERROR PackageFile: None PackageFileSize: NA