Package: biodbNcbi Version: 1.10.0 Command: /home/biocbuild/bbs-3.20-bioc/R/bin/R CMD check --install=check:biodbNcbi.install-out.txt --library=/home/biocbuild/bbs-3.20-bioc/R/site-library --timings biodbNcbi_1.10.0.tar.gz StartedAt: 2025-02-03 20:27:18 -0500 (Mon, 03 Feb 2025) EndedAt: 2025-02-03 20:29:12 -0500 (Mon, 03 Feb 2025) EllapsedTime: 114.1 seconds RetCode: 0 Status: OK CheckDir: biodbNcbi.Rcheck Warnings: 0