Package: biodbNcbi Version: 1.10.0 Command: /home/biocbuild/R/R/bin/R CMD build --keep-empty-dirs --no-resave-data biodbNcbi StartedAt: 2025-02-03 22:05:48 -0000 (Mon, 03 Feb 2025) EndedAt: 2025-02-03 22:06:56 -0000 (Mon, 03 Feb 2025) EllapsedTime: 68.0 seconds RetCode: 0 Status: OK PackageFile: biodbNcbi_1.10.0.tar.gz PackageFileSize: 800.4 KiB