Package: biodbNci Version: 1.10.0 Command: /Library/Frameworks/R.framework/Resources/bin/R CMD check --install=check:biodbNci.install-out.txt --library=/Library/Frameworks/R.framework/Resources/library --no-vignettes --timings biodbNci_1.10.0.tar.gz StartedAt: 2025-02-04 12:46:47 -0500 (Tue, 04 Feb 2025) EndedAt: 2025-02-04 13:26:48 -0500 (Tue, 04 Feb 2025) EllapsedTime: 2401.0 seconds RetCode: None Status: TIMEOUT CheckDir: biodbNci.Rcheck Warnings: NA