Package: biodbNci Version: 1.10.0 Command: rm -rf biodbNci.buildbin-libdir && mkdir biodbNci.buildbin-libdir && F:\biocbuild\bbs-3.20-bioc\R\bin\R.exe CMD INSTALL --build --library=biodbNci.buildbin-libdir biodbNci_1.10.0.tar.gz StartedAt: 2025-02-11 08:01:08 -0500 (Tue, 11 Feb 2025) EndedAt: 2025-02-11 08:02:34 -0500 (Tue, 11 Feb 2025) EllapsedTime: 86.0 seconds RetCode: 0 Status: OK PackageFile: biodbNci_1.10.0.zip PackageFileSize: 902 KiB