Package: biodbNci Version: 1.10.0 Command: F:\biocbuild\bbs-3.20-bioc\R\bin\R.exe CMD check --no-multiarch --install=check:biodbNci.install-out.txt --library=F:\biocbuild\bbs-3.20-bioc\R\library --no-vignettes --timings biodbNci_1.10.0.tar.gz StartedAt: 2025-02-10 23:33:36 -0500 (Mon, 10 Feb 2025) EndedAt: 2025-02-10 23:38:09 -0500 (Mon, 10 Feb 2025) EllapsedTime: 273.5 seconds RetCode: 0 Status: OK CheckDir: biodbNci.Rcheck Warnings: 0