Package: biomvRCNS Version: 1.46.0 Command: /Library/Frameworks/R.framework/Resources/bin/R CMD check --install=check:biomvRCNS.install-out.txt --library=/Library/Frameworks/R.framework/Resources/library --no-vignettes --timings biomvRCNS_1.46.0.tar.gz StartedAt: 2025-02-04 12:49:35 -0500 (Tue, 04 Feb 2025) EndedAt: 2025-02-04 12:55:54 -0500 (Tue, 04 Feb 2025) EllapsedTime: 379.3 seconds RetCode: 0 Status: OK CheckDir: biomvRCNS.Rcheck Warnings: 0