Package: biomvRCNS Version: 1.46.0 Command: rm -rf biomvRCNS.buildbin-libdir && mkdir biomvRCNS.buildbin-libdir && /Users/biocbuild/BBS/utils/build-universal.sh biomvRCNS_1.46.0.tar.gz /Library/Frameworks/R.framework/Resources/bin/R biomvRCNS.buildbin-libdir StartedAt: 2025-02-04 12:32:54 -0500 (Tue, 04 Feb 2025) EndedAt: 2025-02-04 12:34:53 -0500 (Tue, 04 Feb 2025) EllapsedTime: 118.9 seconds RetCode: 0 Status: OK PackageFile: biomvRCNS_1.46.0.tgz PackageFileSize: 1.258 MiB