Package: biomvRCNS Version: 1.46.0 Command: /Library/Frameworks/R.framework/Resources/bin/R CMD build --keep-empty-dirs --no-resave-data biomvRCNS StartedAt: 2025-02-03 17:26:50 -0500 (Mon, 03 Feb 2025) EndedAt: 2025-02-03 17:31:09 -0500 (Mon, 03 Feb 2025) EllapsedTime: 259.5 seconds RetCode: 0 Status: OK PackageFile: biomvRCNS_1.46.0.tar.gz PackageFileSize: 806.6 KiB