Package: biomvRCNS Version: 1.46.0 Command: /home/biocbuild/bbs-3.20-bioc/R/bin/R CMD check --install=check:biomvRCNS.install-out.txt --library=/home/biocbuild/bbs-3.20-bioc/R/site-library --timings biomvRCNS_1.46.0.tar.gz StartedAt: 2025-02-03 20:28:57 -0500 (Mon, 03 Feb 2025) EndedAt: 2025-02-03 20:35:04 -0500 (Mon, 03 Feb 2025) EllapsedTime: 367.6 seconds RetCode: 0 Status: OK CheckDir: biomvRCNS.Rcheck Warnings: 0