Package: biomvRCNS Version: 1.46.0 Command: /home/biocbuild/bbs-3.20-bioc/R/bin/R CMD INSTALL biomvRCNS StartedAt: 2025-02-03 15:43:47 -0500 (Mon, 03 Feb 2025) EndedAt: 2025-02-03 15:44:51 -0500 (Mon, 03 Feb 2025) EllapsedTime: 64.2 seconds RetCode: 0 Status: OK