Package: biomvRCNS Version: 1.46.0 Command: chmod a+r biomvRCNS -R && F:\biocbuild\bbs-3.20-bioc\R\bin\R.exe CMD build --keep-empty-dirs --no-resave-data biomvRCNS StartedAt: 2025-02-03 17:48:48 -0500 (Mon, 03 Feb 2025) EndedAt: 2025-02-03 17:51:11 -0500 (Mon, 03 Feb 2025) EllapsedTime: 142.8 seconds RetCode: 0 Status: OK PackageFile: biomvRCNS_1.46.0.tar.gz PackageFileSize: 566.6 KiB