Package: biomvRCNS Version: 1.46.0 Command: F:\biocbuild\bbs-3.20-bioc\R\bin\R.exe CMD check --no-multiarch --install=check:biomvRCNS.install-out.txt --library=F:\biocbuild\bbs-3.20-bioc\R\library --no-vignettes --timings biomvRCNS_1.46.0.tar.gz StartedAt: 2025-02-03 23:42:22 -0500 (Mon, 03 Feb 2025) EndedAt: 2025-02-03 23:49:04 -0500 (Mon, 03 Feb 2025) EllapsedTime: 402.1 seconds RetCode: 0 Status: OK CheckDir: biomvRCNS.Rcheck Warnings: 0