Package: biomvRCNS Version: 1.46.0 Command: F:\biocbuild\bbs-3.20-bioc\R\bin\R.exe CMD INSTALL biomvRCNS StartedAt: 2025-02-03 16:58:45 -0500 (Mon, 03 Feb 2025) EndedAt: 2025-02-03 16:59:55 -0500 (Mon, 03 Feb 2025) EllapsedTime: 70.9 seconds RetCode: 0 Status: OK