Package: biomvRCNS Version: 1.46.0 Command: /home/biocbuild/R/R/bin/R CMD INSTALL biomvRCNS StartedAt: 2025-02-03 20:58:22 -0000 (Mon, 03 Feb 2025) EndedAt: 2025-02-03 20:59:30 -0000 (Mon, 03 Feb 2025) EllapsedTime: 67.3 seconds RetCode: 0 Status: OK