Package: biosigner Version: 1.34.0 Command: /home/biocbuild/bbs-3.20-bioc/R/bin/R CMD build --keep-empty-dirs --no-resave-data --md5 biosigner StartedAt: 2025-01-30 16:27:03 -0500 (Thu, 30 Jan 2025) EndedAt: 2025-01-30 16:29:41 -0500 (Thu, 30 Jan 2025) EllapsedTime: 158.2 seconds RetCode: 0 Status: OK PackageFile: biosigner_1.34.0.tar.gz PackageFileSize: 4.479 MiB