Package: biosigner Version: 1.34.0 Command: /home/biocbuild/bbs-3.20-bioc/R/bin/R CMD INSTALL biosigner StartedAt: 2025-02-03 16:03:59 -0500 (Mon, 03 Feb 2025) EndedAt: 2025-02-03 16:04:29 -0500 (Mon, 03 Feb 2025) EllapsedTime: 29.8 seconds RetCode: 0 Status: OK