Package: biosigner Version: 1.34.0 Command: chmod a+r biosigner -R && F:\biocbuild\bbs-3.20-bioc\R\bin\R.exe CMD build --keep-empty-dirs --no-resave-data biosigner StartedAt: 2025-01-30 17:37:15 -0500 (Thu, 30 Jan 2025) EndedAt: 2025-01-30 17:40:51 -0500 (Thu, 30 Jan 2025) EllapsedTime: 216.2 seconds RetCode: 0 Status: OK PackageFile: biosigner_1.34.0.tar.gz PackageFileSize: 3.567 MiB