Package: biosigner Version: 1.34.0 Command: /home/biocbuild/R/R/bin/R CMD check --install=check:biosigner.install-out.txt --library=/home/biocbuild/R/R/site-library --no-vignettes --timings biosigner_1.34.0.tar.gz StartedAt: 2025-02-04 05:07:10 -0000 (Tue, 04 Feb 2025) EndedAt: 2025-02-04 05:12:52 -0000 (Tue, 04 Feb 2025) EllapsedTime: 342.4 seconds RetCode: 1 Status: ERROR CheckDir: biosigner.Rcheck Warnings: NA