Package: biosigner Version: 1.34.0 Command: /home/biocbuild/R/R/bin/R CMD INSTALL biosigner StartedAt: 2025-01-30 21:02:00 -0000 (Thu, 30 Jan 2025) EndedAt: 2025-01-30 21:02:33 -0000 (Thu, 30 Jan 2025) EllapsedTime: 32.4 seconds RetCode: 0 Status: OK