Package: blima Version: 1.40.0 Command: rm -rf blima.buildbin-libdir && mkdir blima.buildbin-libdir && /Users/biocbuild/BBS/utils/build-universal.sh blima_1.40.0.tar.gz /Library/Frameworks/R.framework/Resources/bin/R blima.buildbin-libdir StartedAt: 2025-02-01 14:06:19 -0500 (Sat, 01 Feb 2025) EndedAt: 2025-02-01 14:06:49 -0500 (Sat, 01 Feb 2025) EllapsedTime: 29.5 seconds RetCode: 0 Status: OK PackageFile: blima_1.40.0.tgz PackageFileSize: 419.2 KiB