Package: blima Version: 1.40.0 Command: /Library/Frameworks/R.framework/Resources/bin/R CMD build --keep-empty-dirs --no-resave-data blima StartedAt: 2025-02-03 19:42:46 -0500 (Mon, 03 Feb 2025) EndedAt: 2025-02-03 19:48:28 -0500 (Mon, 03 Feb 2025) EllapsedTime: 341.2 seconds RetCode: 0 Status: OK PackageFile: blima_1.40.0.tar.gz PackageFileSize: 264.4 KiB