Package: blima Version: 1.40.0 Command: /Library/Frameworks/R.framework/Resources/bin/R CMD INSTALL blima StartedAt: 2025-02-03 15:42:41 -0500 (Mon, 03 Feb 2025) EndedAt: 2025-02-03 15:42:54 -0500 (Mon, 03 Feb 2025) EllapsedTime: 12.5 seconds RetCode: 0 Status: OK