Package: blima Version: 1.40.0 Command: /home/biocbuild/bbs-3.20-bioc/R/bin/R CMD INSTALL blima StartedAt: 2025-01-30 15:24:19 -0500 (Thu, 30 Jan 2025) EndedAt: 2025-01-30 15:24:44 -0500 (Thu, 30 Jan 2025) EllapsedTime: 24.9 seconds RetCode: 0 Status: OK