Package: blima Version: 1.40.0 Command: rm -rf blima.buildbin-libdir && mkdir blima.buildbin-libdir && F:\biocbuild\bbs-3.20-bioc\R\bin\R.exe CMD INSTALL --build --library=blima.buildbin-libdir blima_1.40.0.tar.gz StartedAt: 2025-02-04 08:05:25 -0500 (Tue, 04 Feb 2025) EndedAt: 2025-02-04 08:06:10 -0500 (Tue, 04 Feb 2025) EllapsedTime: 45.9 seconds RetCode: 0 Status: OK PackageFile: blima_1.40.0.zip PackageFileSize: 736.3 KiB