Package: blima Version: 1.40.0 Command: chmod a+r blima -R && F:\biocbuild\bbs-3.20-bioc\R\bin\R.exe CMD build --keep-empty-dirs --no-resave-data blima StartedAt: 2025-01-30 17:38:11 -0500 (Thu, 30 Jan 2025) EndedAt: 2025-01-30 17:45:20 -0500 (Thu, 30 Jan 2025) EllapsedTime: 429.1 seconds RetCode: 0 Status: OK PackageFile: blima_1.40.0.tar.gz PackageFileSize: 264.5 KiB