Package: blima Version: 1.40.0 Command: /home/biocbuild/R/R/bin/R CMD INSTALL blima StartedAt: 2025-02-03 20:45:46 -0000 (Mon, 03 Feb 2025) EndedAt: 2025-02-03 20:46:21 -0000 (Mon, 03 Feb 2025) EllapsedTime: 35.0 seconds RetCode: 0 Status: OK