Package: bluster Version: 1.16.0 Command: rm -rf bluster.buildbin-libdir && mkdir bluster.buildbin-libdir && /Users/biocbuild/BBS/utils/build-universal.sh bluster_1.16.0.tar.gz /Library/Frameworks/R.framework/Resources/bin/R bluster.buildbin-libdir StartedAt: 2025-02-04 12:33:38 -0500 (Tue, 04 Feb 2025) EndedAt: 2025-02-04 12:34:30 -0500 (Tue, 04 Feb 2025) EllapsedTime: 52.8 seconds RetCode: 0 Status: OK PackageFile: bluster_1.16.0.tgz PackageFileSize: 3.53 MiB