Package: bluster Version: 1.16.0 Command: /home/biocbuild/bbs-3.20-bioc/R/bin/R CMD check --install=check:bluster.install-out.txt --library=/home/biocbuild/bbs-3.20-bioc/R/site-library --timings bluster_1.16.0.tar.gz StartedAt: 2025-02-10 20:24:44 -0500 (Mon, 10 Feb 2025) EndedAt: 2025-02-10 20:28:21 -0500 (Mon, 10 Feb 2025) EllapsedTime: 217.8 seconds RetCode: 0 Status: OK CheckDir: bluster.Rcheck Warnings: 0