Package: bluster Version: 1.16.0 Command: /home/biocbuild/R/R/bin/R CMD check --install=check:bluster.install-out.txt --library=/home/biocbuild/R/R/site-library --no-vignettes --timings bluster_1.16.0.tar.gz StartedAt: 2025-02-04 05:09:27 -0000 (Tue, 04 Feb 2025) EndedAt: 2025-02-04 05:11:50 -0000 (Tue, 04 Feb 2025) EllapsedTime: 143.1 seconds RetCode: 0 Status: OK CheckDir: bluster.Rcheck Warnings: 0