Package: bluster Version: 1.16.0 Command: /home/biocbuild/R/R/bin/R CMD INSTALL bluster StartedAt: 2025-02-03 20:37:57 -0000 (Mon, 03 Feb 2025) EndedAt: 2025-02-03 20:38:29 -0000 (Mon, 03 Feb 2025) EllapsedTime: 31.2 seconds RetCode: 0 Status: OK