Package: borealis Version: 1.10.0 Command: /Library/Frameworks/R.framework/Resources/bin/R CMD build --keep-empty-dirs --no-resave-data borealis StartedAt: 2025-02-10 19:57:33 -0500 (Mon, 10 Feb 2025) EndedAt: 2025-02-10 19:59:50 -0500 (Mon, 10 Feb 2025) EllapsedTime: 137.3 seconds RetCode: 0 Status: OK PackageFile: borealis_1.10.0.tar.gz PackageFileSize: 426.3 KiB