Package: borealis Version: 1.10.0 Command: rm -rf borealis.buildbin-libdir && mkdir borealis.buildbin-libdir && /Users/biocbuild/BBS/utils/build-universal.sh borealis_1.10.0.tar.gz /Library/Frameworks/R.framework/Resources/bin/R borealis.buildbin-libdir StartedAt: 2025-02-04 12:33:56 -0500 (Tue, 04 Feb 2025) EndedAt: 2025-02-04 12:35:21 -0500 (Tue, 04 Feb 2025) EllapsedTime: 85.1 seconds RetCode: 0 Status: OK PackageFile: borealis_1.10.0.tgz PackageFileSize: 472.3 KiB