Package: borealis Version: 1.10.0 Command: /Library/Frameworks/R.framework/Resources/bin/R CMD INSTALL borealis StartedAt: 2025-02-10 16:16:11 -0500 (Mon, 10 Feb 2025) EndedAt: 2025-02-10 16:17:32 -0500 (Mon, 10 Feb 2025) EllapsedTime: 81.3 seconds RetCode: 0 Status: OK