Package: borealis Version: 1.10.0 Command: /home/biocbuild/bbs-3.20-bioc/R/bin/R CMD build --keep-empty-dirs --no-resave-data --md5 borealis StartedAt: 2025-02-10 16:31:06 -0500 (Mon, 10 Feb 2025) EndedAt: 2025-02-10 16:32:50 -0500 (Mon, 10 Feb 2025) EllapsedTime: 104.1 seconds RetCode: 0 Status: OK PackageFile: borealis_1.10.0.tar.gz PackageFileSize: 430.3 KiB