Package: borealis Version: 1.10.0 Command: /home/biocbuild/bbs-3.20-bioc/R/bin/R CMD check --install=check:borealis.install-out.txt --library=/home/biocbuild/bbs-3.20-bioc/R/site-library --timings borealis_1.10.0.tar.gz StartedAt: 2025-02-03 20:33:48 -0500 (Mon, 03 Feb 2025) EndedAt: 2025-02-03 20:39:39 -0500 (Mon, 03 Feb 2025) EllapsedTime: 350.9 seconds RetCode: 0 Status: OK CheckDir: borealis.Rcheck Warnings: 0