Package: borealis Version: 1.10.0 Command: chmod a+r borealis -R && F:\biocbuild\bbs-3.20-bioc\R\bin\R.exe CMD build --keep-empty-dirs --no-resave-data borealis StartedAt: 2025-02-10 17:45:17 -0500 (Mon, 10 Feb 2025) EndedAt: 2025-02-10 17:47:39 -0500 (Mon, 10 Feb 2025) EllapsedTime: 142.2 seconds RetCode: 0 Status: OK PackageFile: borealis_1.10.0.tar.gz PackageFileSize: 342.7 KiB