Package: borealis Version: 1.10.0 Command: F:\biocbuild\bbs-3.20-bioc\R\bin\R.exe CMD check --no-multiarch --install=check:borealis.install-out.txt --library=F:\biocbuild\bbs-3.20-bioc\R\library --no-vignettes --timings borealis_1.10.0.tar.gz StartedAt: 2025-02-03 23:47:44 -0500 (Mon, 03 Feb 2025) EndedAt: 2025-02-03 23:53:50 -0500 (Mon, 03 Feb 2025) EllapsedTime: 366.1 seconds RetCode: 0 Status: OK CheckDir: borealis.Rcheck Warnings: 0